Workbook
Name Clicks: settings!$G$17
Name Conv_Rate: settings!$G$13
Name Conversions: settings!$G$19
Name Cost: settings!$G$18
Name CPA: settings!$G$20
Name cpc: settings!$G$10
Name rank: settings!$B$10
Name Reach: settings!$B$2
Name Revenue: settings!$G$21
Name RevenuePerVisit: settings!$G$14
Name ROAS: settings!$G$22
Name Type_of_SearchQuery: settings!$B$7

Sheet settings
A1: Exact SearchQuery | B1: [indian curry]
A2: Impressions for Exact SearchQuery (Reach) | B2: 1000000
A3: Email | B3: email@domain.com
A4: Website Address | B4: www.domain.com
A5: Company Name | B5: My Company
A6: Country | B6: UK
A7: Type of SearchQuery | B7: Default: Both Types
B9: Select Current Rank | C9: RangeName | D9: Organic CTR | F9: WebSite Type | G9: Ecommerce
B10: 5 | C10: 1 | D10: =VLOOKUP(C10,'lookup CTR per position'!$A$3:$W$12, VLOOKUP($B$22,$C$22:$D$30,2,FALSE)+1,FALSE) -> 0.27233333 | F10: Avg CPC | G10: 0.4
C11: 2 | D11: =VLOOKUP(C11,'lookup CTR per position'!$A$3:$W$12, VLOOKUP($B$22,$C$22:$D$30,2,FALSE)+1,FALSE) -> 0.11433333 | F11: Avg Basket value | G11: 120 | H11: =IF(G9="ecommerce","Note: RPV will be £" & ROUND(G11*Conv_Rate,2),"") -> Note: RPV will be £2.4
C12: 3 | D12: =VLOOKUP(C12,'lookup CTR per position'!$A$3:$W$12, VLOOKUP($B$22,$C$22:$D$30,2,FALSE)+1,FALSE) -> 0.084666667 | F12: RevenuePerVisit | G12: 2.4 | H12: =IF(G9<>"ecommerce","Note: Avg Basket value will be £" & ROUND(G12/Conv_Rate,1),"")
C13: 4 | D13: =VLOOKUP(C13,'lookup CTR per position'!$A$3:$W$12, VLOOKUP($B$22,$C$22:$D$30,2,FALSE)+1,FALSE) -> 0.059333333 | F13: Est Conv Rate | G13: 0.02
C14: 5 | D14: =VLOOKUP(C14,'lookup CTR per position'!$A$3:$W$12, VLOOKUP($B$22,$C$22:$D$30,2,FALSE)+1,FALSE) -> 0.044 | F14: RevenuePerVisit | G14: =IF(G9<>"ecommerce", G12,G11*Conv_Rate) -> 2.4
C15: 6 | D15: =VLOOKUP(C15,'lookup CTR per position'!$A$3:$W$12, VLOOKUP($B$22,$C$22:$D$30,2,FALSE)+1,FALSE) -> 0.036666667
C16: 7 | D16: =VLOOKUP(C16,'lookup CTR per position'!$A$3:$W$12, VLOOKUP($B$22,$C$22:$D$30,2,FALSE)+1,FALSE) -> 0.032666667 | F16: Reach | G16: =Reach -> 1000000
C17: 8 | D17: =VLOOKUP(C17,'lookup CTR per position'!$A$3:$W$12, VLOOKUP($B$22,$C$22:$D$30,2,FALSE)+1,FALSE) -> 0.028333333 | F17: Clicks | G17: =Reach*H47 -> 43560
C18: 9 | D18: =VLOOKUP(C18,'lookup CTR per position'!$A$3:$W$12, VLOOKUP($B$22,$C$22:$D$30,2,FALSE)+1,FALSE) -> 0.024333333 | F18: Cost | G18: =IFERROR(cpc*Clicks,"") -> 17424
C19: 10 | D19: =VLOOKUP(C19,'lookup CTR per position'!$A$3:$W$12, VLOOKUP($B$22,$C$22:$D$30,2,FALSE)+1,FALSE) -> 0.022666667 | F19: Conversions | G19: =IFERROR(Clicks*Conv_Rate,"") -> 871.2
F20: CPA | G20: =Cost/Conversions -> 20
B21: Select CTR table | C21: Name | D21: ColumnNo | F21: Revenue | G21: =Clicks*RevenuePerVisit -> 104544
B22: Avg | C22: ='lookup CTR per position'!B2 -> Avg | D22: 14 | E22: =D22-1 -> 13 | F22: ROAS | G22: =(RevenuePerVisit-cpc)/cpc -> 5
C23: ='lookup CTR per position'!C2 -> Slingshot | D23: =D22+1 -> 15 | E23: =D23-1 -> 14
C24: ='lookup CTR per position'!D2 -> Optify | D24: =D23+1 -> 16 | E24: =D24-1 -> 15 | F24: CTR Brand Damperner:
C25: ='lookup CTR per position'!E2 -> Enquiro | D25: =D24+1 -> 17 | E25: =D25-1 -> 16 | F25: Very Popular Brand | G25: Very Popular Brand | H25: 0.1
C26: ='lookup CTR per position'!F2 -> AOL | D26: =D25+1 -> 18 | E26: =D26-1 -> 17 | G26: Popular Brand | H26: 0.05
C27: ='lookup CTR per position'!G2 -> Epiphany (cpc) | D27: =D26+1 -> 19 | E27: =D27-1 -> 18 | G27: Default | H27: 0
C28: ='lookup CTR per position'!H2 -> Accuracast (cpc) | D28: =D27+1 -> 20 | E28: =D28-1 -> 19 | G28: Unpopular Brand | H28: -0.05
C29: ='lookup CTR per position'!I2 -> Linear | D29: =D28+1 -> 21 | E29: =D29-1 -> 20 | G29: Very Unpopular Brand | H29: -0.1
C30: ='lookup CTR per position'!J2 -> Custom | D30: =D29+1 -> 22 | E30: =D30-1 -> 21 | G30: Custom | H30: -0.1
B32: =A7 & " Adjustment" -> Type of SearchQuery Adjustment
B33: Rank | C33: ='lookup CTR per position'!L2 -> Informational SearchQuery | D33: ='lookup CTR per position'!M2 -> Transactional SearchQuery | F33: Universal search dampener by Industry:
B34: 1 | C34: 0.05 | D34: -0.02 | F34: =G9 -> Ecommerce | G34: Ecommerce | H34: -0.1
B35: 2 | C35: 0.025 | D35: -0.01 | G35: Publisher | H35: -0.08
B36: 3 | C36: 0.015 | D36: -0.005 | G36: Lead gen | H36: -0.05
B37: 4 | C37: -0.024303663 | D37: 0.02 | G37: Other | H37: -0.03
B38: 5 | C38: -0.019191474 | D38: 0.01 | G38: Default | H38: 0
B39: 6 | C39: -0.014732507 | D39: 0.005
B40: 7 | C40: -0.011309541 | D40: 0 | G40: Rank | H40: =rank -> 5
B41: 8 | C41: -0.0086818704 | D41: 0 | G41: Selection: CTR | H41: =settings!$B$22 -> Avg
B42: 9 | C42: -0.0066647156 | D42: 0 | G42: Selected CTR | H42: =VLOOKUP(H40,'lookup CTR per position'!$A$3:$W$12, VLOOKUP(H41,settings!$C$22:$D$30,2,FALSE)+1,FALSE) -> 0.044
...

Sheet Scenario Summary
A1: Ranking Scenario | B1: 10 | C1: 9 | D1: 8 | E1: 7 | F1: 6 | G1: 5 | H1: 4 | I1: 3 | J1: 2 | K1: 1
A2: Reach | B2: =Reach -> 1000000 | C2: =Reach -> 1000000 | D2: =Reach -> 1000000 | E2: =Reach -> 1000000 | F2: =Reach -> 1000000 | G2: =Reach -> 1000000 | H2: =Reach -> 1000000 | I2: =Reach -> 1000000 | ... K2: =Reach -> 1000000
A3: CTR Per industry | B3: =VLOOKUP(B$1,settings!$C$10:$D$19,2,FALSE)*(100%+settings!$H$44) -> 0.0204 | C3: =VLOOKUP(C$1,settings!$C$10:$D$19,2,FALSE)*(100%+settings!$H$44) -> 0.0219 | D3: =VLOOKUP(D$1,settings!$C$10:$D$19,2,FALSE)*(100%+settings!$H$44) -> 0.0255 | E3: =VLOOKUP(E$1,settings!$C$10:$D$19,2,FALSE)*(100%+settings!$H$44) -> 0.0294 | F3: =VLOOKUP(F$1,settings!$C$10:$D$19,2,FALSE)*(100%+settings!$H$44) -> 0.033 | G3: =VLOOKUP(G$1,settings!$C$10:$D$19,2,FALSE)*(100%+settings!$H$44) -> 0.0396 | H3: =VLOOKUP(H$1,settings!$C$10:$D$19,2,FALSE)*(100%+settings!$H$44) -> 0.0534 | I3: =VLOOKUP(I$1,settings!$C$10:$D$19,2,FALSE)*(100%+settings!$H$44) -> 0.0762 | ... K3: =VLOOKUP(K$1,settings!$C$10:$D$19,2,FALSE)*(100%+settings!$H$44) -> 0.2451
A4: Brand Dampended CTR | B4: =B$3*(100%+settings!$H$46) -> 0.02244 | C4: =C$3*(100%+settings!$H$46) -> 0.02409 | D4: =D$3*(100%+settings!$H$46) -> 0.02805 | E4: =E$3*(100%+settings!$H$46) -> 0.03234 | F4: =F$3*(100%+settings!$H$46) -> 0.0363 | G4: =G$3*(100%+settings!$H$46) -> 0.04356 | H4: =H$3*(100%+settings!$H$46) -> 0.05874 | I4: =I$3*(100%+settings!$H$46) -> 0.08382 | ... K4: =K$3*(100%+settings!$H$46) -> 0.26961
A5: Clicks | B5: =B4*B2 -> 22440 | C5: =C4*C2 -> 24090 | D5: =D4*D2 -> 28050 | E5: =E4*E2 -> 32340 | F5: =F4*F2 -> 36300 | G5: =G4*G2 -> 43560 | H5: =H4*H2 -> 58740 | I5: =I4*I2 -> 83820 | ... K5: =K4*K2 -> 269610
A6: Cost | B6: =IFERROR(cpc*B5,"") -> 8976 | C6: =IFERROR(cpc*C5,"") -> 9636 | D6: =IFERROR(cpc*D5,"") -> 11220 | E6: =IFERROR(cpc*E5,"") -> 12936 | F6: =IFERROR(cpc*F5,"") -> 14520 | G6: =IFERROR(cpc*G5,"") -> 17424 | H6: =IFERROR(cpc*H5,"") -> 23496 | I6: =IFERROR(cpc*I5,"") -> 33528 | ... K6: =IFERROR(cpc*K5,"") -> 107844
A7: Conversions | B7: =B5*Conv_Rate -> 448.8 | C7: =C5*Conv_Rate -> 481.8 | D7: =D5*Conv_Rate -> 561 | E7: =E5*Conv_Rate -> 646.8 | F7: =F5*Conv_Rate -> 726 | G7: =G5*Conv_Rate -> 871.2 | H7: =H5*Conv_Rate -> 1174.8 | I7: =I5*Conv_Rate -> 1676.4 | ... K7: =K5*Conv_Rate -> 5392.2
A8: CPA | B8: =B6/B7 -> 20 | C8: =C6/C7 -> 20 | D8: =D6/D7 -> 20 | E8: =E6/E7 -> 20 | F8: =F6/F7 -> 20 | G8: =G6/G7 -> 20 | H8: =H6/H7 -> 20 | I8: =I6/I7 -> 20 | ... K8: =K6/K7 -> 20
A9: Revenue | B9: =B5*RevenuePerVisit -> 53856 | C9: =C5*RevenuePerVisit -> 57816 | D9: =D5*RevenuePerVisit -> 67320 | E9: =E5*RevenuePerVisit -> 77616 | F9: =F5*RevenuePerVisit -> 87120 | G9: =G5*RevenuePerVisit -> 104544 | H9: =H5*RevenuePerVisit -> 140976 | I9: =I5*RevenuePerVisit -> 201168 | ... K9: =K5*RevenuePerVisit -> 647064
A10: Revenue Increase per Position | B10: =IFERROR(B9-A9,"") | C10: =IFERROR(C9-B9,"") -> 3960 | D10: =IFERROR(D9-C9,"") -> 9504 | E10: =IFERROR(E9-D9,"") -> 10296 | F10: =IFERROR(F9-E9,"") -> 9504 | G10: =IFERROR(G9-F9,"") -> 17424 | H10: =IFERROR(H9-G9,"") -> 36432 | I10: =IFERROR(I9-H9,"") -> 60192 | ... K10: =IFERROR(K9-J9,"") -> 375408
A11: % Increase in Revenue | B11: =IFERROR(B10/A9,"") | C11: =IFERROR(C10/B9,"") -> 0.073529412 | D11: =IFERROR(D10/C9,"") -> 0.16438356 | E11: =IFERROR(E10/D9,"") -> 0.15294118 | F11: =IFERROR(F10/E9,"") -> 0.12244898 | G11: =IFERROR(G10/F9,"") -> 0.2 | H11: =IFERROR(H10/G9,"") -> 0.34848485 | I11: =IFERROR(I10/H9,"") -> 0.42696629 | ... K11: =IFERROR(K10/J9,"") -> 1.3819242
B12: =IF(B1=rank=TRUE, "Current Rank","") | C12: =IF(C1=rank=TRUE, "Current Rank","") | D12: =IF(D1=rank=TRUE, "Current Rank","") | E12: =IF(E1=rank=TRUE, "Current Rank","") | F12: =IF(F1=rank=TRUE, "Current Rank","") | G12: =IF(G1=rank=TRUE, "Current Rank","") -> Current Rank | H12: =IF(H1=rank=TRUE, "Current Rank","") | I12: =IF(I1=rank=TRUE, "Current Rank","") | ... K12: =IF(K1=rank=TRUE, "Current Rank","")
A40: 0.0056405443 | B40: 0.0086777604 | C40: 0.013350401 | D40: 0.020539078 | E40: 0.031598581 | F40: 0.048613202 | G40: 0.074789542 | H40: 0.11506083 | I40: 0.17701667 | J40: 0.27233333

Sheet lookup CTR per position
A1: Default
A2: Rank | B2: Avg | C2: Slingshot | D2: Optify | E2: Enquiro | F2: AOL | G2: Epiphany (cpc) | H2: Accuracast (cpc) | I2: Linear | J2: Custom | K2: =settings!A7 -> Type of SearchQuery | L2: Informational SearchQuery | M2: Transactional SearchQuery | N2: Default: Both Types | O2: =B2 -> Avg | P2: =C2 -> Slingshot | Q2: =D2 -> Optify | R2: =E2 -> Enquiro | S2: =F2 -> AOL | T2: =G2 -> Epiphany (cpc) | U2: =H2 -> Accuracast (cpc) | V2: =I2 -> Linear | W2: =J2 -> Custom
A3: 1 | B3: =AVERAGE(C3:E3) -> 0.27233333 | C3: 0.182 | D3: 0.364 | E3: 0.271 | F3: 0.421 | G3: 0.098 | H3: 0.0794 | I3: =B3 -> 0.27233333 | J3: =settings!C47 -> 0.5 | K3: =Type_of_SearchQuery -> Default: Both Types | L3: =settings!C34 -> 0.05 | M3: =settings!D34 -> -0.02 | N3: =IF(K3=$L$2,L3+100%, IF(K3=$M$2,M3+100%,"1")) -> 1 | O3: =AVERAGE(P3:R3) -> 0.27233333 | P3: =$N3*C3 -> 0.182 | Q3: =$N3*D3 -> 0.364 | R3: =$N3*E3 -> 0.271 | S3: =$N3*F3 -> 0.421 | T3: =$N3*G3 -> 0.098 | U3: =$N3*H3 -> 0.0794 | V3: =$N3*I3 -> 0.27233333 | W3: =$N3*J3 -> 0.5
A4: 2 | B4: =AVERAGE(C4:E4) -> 0.11433333 | C4: 0.101 | D4: 0.125 | E4: 0.117 | F4: 0.119 | G4: 0.0637 | H4: 0.05 | I4: =I3*65% -> 0.17701667 | J4: =settings!C48 -> 0.25 | K4: =Type_of_SearchQuery -> Default: Both Types | L4: =settings!C35 -> 0.025 | M4: =settings!D35 -> -0.01 | N4: =IF(K4=$L$2,L4+100%, IF(K4=$M$2,M4+100%,"1")) -> 1 | O4: =AVERAGE(P4:R4) -> 0.11433333 | P4: =$N4*C4 -> 0.101 | Q4: =$N4*D4 -> 0.125 | R4: =$N4*E4 -> 0.117 | S4: =$N4*F4 -> 0.119 | T4: =$N4*G4 -> 0.0637 | U4: =$N4*H4 -> 0.05 | V4: =$N4*I4 -> 0.17701667 | W4: =$N4*J4 -> 0.25
A5: 3 | B5: =AVERAGE(C5:E5) -> 0.084666667 | C5: 0.072 | D5: 0.095 | E5: 0.087 | F5: 0.085 | G5: 0.041405 | H5: 0.0247 | I5: =I4*65% -> 0.11506083 | J5: =settings!C49 -> 0.125 | K5: =Type_of_SearchQuery -> Default: Both Types | L5: =settings!C36 -> 0.015 | M5: =settings!D36 -> -0.005 | N5: =IF(K5=$L$2,L5+100%, IF(K5=$M$2,M5+100%,"1")) -> 1 | O5: =AVERAGE(P5:R5) -> 0.084666667 | P5: =$N5*C5 -> 0.072 | Q5: =$N5*D5 -> 0.095 | R5: =$N5*E5 -> 0.087 | S5: =$N5*F5 -> 0.085 | T5: =$N5*G5 -> 0.041405 | U5: =$N5*H5 -> 0.0247 | V5: =$N5*I5 -> 0.11506083 | W5: =$N5*J5 -> 0.125
A6: 4 | B6: =AVERAGE(C6:E6) -> 0.059333333 | C6: 0.048 | D6: 0.079 | E6: 0.051 | F6: 0.061 | G6: 0.013456625 | H6: 0.0196 | I6: =I5*65% -> 0.074789542 | J6: =settings!C50 -> 0.0625 | K6: =Type_of_SearchQuery -> Default: Both Types | L6: =settings!C37 -> -0.024303663 | M6: =settings!D37 -> 0.02 | N6: =IF(K6=$L$2,L6+100%, IF(K6=$M$2,M6+100%,"1")) -> 1 | O6: =AVERAGE(P6:R6) -> 0.059333333 | P6: =$N6*C6 -> 0.048 | Q6: =$N6*D6 -> 0.079 | R6: =$N6*E6 -> 0.051 | S6: =$N6*F6 -> 0.061 | T6: =$N6*G6 -> 0.013456625 | U6: =$N6*H6 -> 0.0196 | V6: =$N6*I6 -> 0.074789542 | W6: =$N6*J6 -> 0.0625
A7: 5 | B7: =AVERAGE(C7:E7) -> 0.044 | C7: 0.031 | D7: 0.061 | E7: 0.04 | F7: 0.049 | G7: 0.0087468063 | H7: 0.009 | I7: =I6*65% -> 0.048613202 | J7: =settings!C51 -> 0.03125 | K7: =Type_of_SearchQuery -> Default: Both Types | L7: =settings!C38 -> -0.019191474 | M7: =settings!D38 -> 0.01 | N7: =IF(K7=$L$2,L7+100%, IF(K7=$M$2,M7+100%,"1")) -> 1 | O7: =AVERAGE(P7:R7) -> 0.044 | P7: =$N7*C7 -> 0.031 | Q7: =$N7*D7 -> 0.061 | R7: =$N7*E7 -> 0.04 | S7: =$N7*F7 -> 0.049 | T7: =$N7*G7 -> 0.0087468063 | U7: =$N7*H7 -> 0.009 | V7: =$N7*I7 -> 0.048613202 | W7: =$N7*J7 -> 0.03125
A8: 6 | B8: =AVERAGE(C8:E8) -> 0.036666667 | C8: 0.028 | D8: 0.041 | E8: 0.041 | F8: 0.041 | G8: 0.0056854241 | H8: 0.0081 | I8: =I7*65% -> 0.031598581 | J8: =settings!C52 -> 0.015625 | K8: =Type_of_SearchQuery -> Default: Both Types | L8: =settings!C39 -> -0.014732507 | M8: =settings!D39 -> 0.005 | N8: =IF(K8=$L$2,L8+100%, IF(K8=$M$2,M8+100%,"1")) -> 1 | O8: =AVERAGE(P8:R8) -> 0.036666667 | P8: =$N8*C8 -> 0.028 | Q8: =$N8*D8 -> 0.041 | R8: =$N8*E8 -> 0.041 | S8: =$N8*F8 -> 0.041 | T8: =$N8*G8 -> 0.0056854241 | U8: =$N8*H8 -> 0.0081 | V8: =$N8*I8 -> 0.031598581 | W8: =$N8*J8 -> 0.015625
A9: 7 | B9: =AVERAGE(C9:E9) -> 0.032666667 | C9: 0.019 | D9: 0.038 | E9: 0.041 | F9: 0.034 | G9: 0.0036955256 | H9: 0.0091 | I9: =I8*65% -> 0.020539078 | J9: =settings!C53 -> 0.0078125 | K9: =Type_of_SearchQuery -> Default: Both Types | L9: =settings!C40 -> -0.011309541 | M9: =settings!D40 -> 0 | N9: =IF(K9=$L$2,L9+100%, IF(K9=$M$2,M9+100%,"1")) -> 1 | O9: =AVERAGE(P9:R9) -> 0.032666667 | P9: =$N9*C9 -> 0.019 | Q9: =$N9*D9 -> 0.038 | R9: =$N9*E9 -> 0.041 | S9: =$N9*F9 -> 0.034 | T9: =$N9*G9 -> 0.0036955256 | U9: =$N9*H9 -> 0.0091 | V9: =$N9*I9 -> 0.020539078 | W9: =$N9*J9 -> 0.0078125
A10: 8 | B10: =AVERAGE(C10:E10) -> 0.028333333 | C10: 0.018 | D10: 0.035 | E10: 0.032 | F10: 0.03 | G10: 0.0024020917 | H10: 0.0074 | I10: =I9*65% -> 0.013350401 | J10: =settings!C54 -> 0.00390625 | K10: =Type_of_SearchQuery -> Default: Both Types | L10: =settings!C41 -> -0.0086818704 | M10: =settings!D41 -> 0 | N10: =IF(K10=$L$2,L10+100%, IF(K10=$M$2,M10+100%,"1")) -> 1 | O10: =AVERAGE(P10:R10) -> 0.028333333 | P10: =$N10*C10 -> 0.018 | Q10: =$N10*D10 -> 0.035 | R10: =$N10*E10 -> 0.032 | S10: =$N10*F10 -> 0.03 | T10: =$N10*G10 -> 0.0024020917 | U10: =$N10*H10 -> 0.0074 | V10: =$N10*I10 -> 0.013350401 | W10: =$N10*J10 -> 0.00390625
A11: 9 | B11: =AVERAGE(C11:E11) -> 0.024333333 | C11: 0.015 | D11: 0.03 | E11: 0.028 | F11: 0.026 | G11: 0.0015613596 | H11: 0.0075 | I11: =I10*65% -> 0.0086777604 | J11: =settings!C55 -> 0.001953125 | K11: =Type_of_SearchQuery -> Default: Both Types | L11: =settings!C42 -> -0.0066647156 | M11: =settings!D42 -> 0 | N11: =IF(K11=$L$2,L11+100%, IF(K11=$M$2,M11+100%,"1")) -> 1 | O11: =AVERAGE(P11:R11) -> 0.024333333 | P11: =$N11*C11 -> 0.015 | Q11: =$N11*D11 -> 0.03 | R11: =$N11*E11 -> 0.028 | S11: =$N11*F11 -> 0.026 | T11: =$N11*G11 -> 0.0015613596 | U11: =$N11*H11 -> 0.0075 | V11: =$N11*I11 -> 0.0086777604 | W11: =$N11*J11 -> 0.001953125
A12: 10 | B12: =AVERAGE(C12:E12) -> 0.022666667 | C12: 0.01 | D12: 0.022 | E12: 0.036 | F12: 0.03 | G12: 0.0010148837 | H12: 0.002 | I12: =I11*65% -> 0.0056405443 | J12: =settings!C56 -> 0.0009765625 | K12: =Type_of_SearchQuery -> Default: Both Types | L12: =settings!C43 -> -0.0051162287 | M12: =settings!D43 -> 0 | N12: =IF(K12=$L$2,L12+100%, IF(K12=$M$2,M12+100%,"1")) -> 1 | O12: =AVERAGE(P12:R12) -> 0.022666667 | P12: =$N12*C12 -> 0.01 | Q12: =$N12*D12 -> 0.022 | R12: =$N12*E12 -> 0.036 | S12: =$N12*F12 -> 0.03 | T12: =$N12*G12 -> 0.0010148837 | U12: =$N12*H12 -> 0.002 | V12: =$N12*I12 -> 0.0056405443 | W12: =$N12*J12 -> 0.0009765625
A13: Total Organic CTR | B13: =SUM(B3:B12) -> 0.71933333 | C13: =SUM(C3:C12) -> 0.524 | D13: =SUM(D3:D12) -> 0.89 | E13: =SUM(E3:E12) -> 0.744 | F13: =SUM(F3:F12) -> 0.896 | G13: n/a | H13: n/a | I13: =SUM(I3:I12) -> 0.76761994 | J13: =SUM(J3:J12) -> 0.99902344 | L13: =SUM(L3:L12) -> 1.0408341e-17 | M13: =SUM(M3:M12) -> 4.3368087e-18 | O13: =SUM(O3:O12) -> 0.71933333 | P13: =SUM(P3:P12) -> 0.524 | Q13: =SUM(Q3:Q12) -> 0.89 | R13: =SUM(R3:R12) -> 0.744 | S13: =SUM(S3:S12) -> 0.896 | T13: n/a | U13: n/a | V13: =SUM(V3:V12) -> 0.76761994 | W13: =SUM(W3:W12) -> 0.99902344
A14: Recentcy | B14: n/a | C14: 2011 | D14: 2010 | E14: 2007 | F14: 2006 | G14: 40659 | H14: 40452 | J14: n/a
M16: =L2 -> Informational SearchQuery | N16: =N2 -> Default: Both Types | P16: =M2 -> Transactional SearchQuery
K39: Organic | L39: CPC | N39: Inversed for Chart..
J40: Rank | K40: EyeBall Impresson | L40: EyeBall Impresson (cpc) | N40: =K40 -> EyeBall Impresson | O40: =L40 -> EyeBall Impresson (cpc)
J41: 1 | K41: 1 | L41: 0.5 | N41: =K50 -> 0.2 | O41: =L50 -> 0
J42: 2 | K42: 1 | L42: 0.4 | N42: =K49 -> 0.3 | O42: =L49 -> 0
J43: 3 | K43: 1 | L43: 0.3 | N43: =K48 -> 0.3 | O43: =L48 -> 0.1
J44: 4 | K44: 0.85 | L44: 0.2 | N44: =K47 -> 0.5 | O44: =L47 -> 0.1
J45: 5 | K45: 0.6 | L45: 0.1 | N45: =K46 -> 0.5 | O45: =L46 -> 0.1
J46: 6 | K46: 0.5 | L46: 0.1 | N46: =K45 -> 0.6 | O46: =L45 -> 0.1
J47: 7 | K47: 0.5 | L47: 0.1 | N47: =K44 -> 0.85 | O47: =L44 -> 0.2
J48: 8 | K48: 0.3 | L48: 0.1 | M48: <-Page fold | N48: =K43 -> 1 | O48: =L43 -> 0.3
J49: 9 | K49: 0.3 | N49: =K42 -> 1 | O49: =L42 -> 0.4
J50: 10 | K50: 0.2 | N50: =K41 -> 1 | O50: =L41 -> 0.5
J51: http://eyetools.com/research_google_eyetracking_heatmap.html

Sheet data
A1: id | B1: Exact KW | C1: UK Exact Searches (Reach) | D1: Rank | E1: =settings!A7 -> Type of SearchQuery | F1: Selection: CTR | G1: Selected CTR | H1: Selection: Universal search dampener by Industry | I1: Universal search dampener by Industry | J1: Selection: CTR Brand Damperner | K1: Brand Damperner | L1: Adj. CTR | M1: RPV | N1: CPC | O1: CPA | P1: Clicks | Q1: Cost | R1: Conversions | S1: Revenue | T1: ROAS | U1: MatchType | V1: Competition | W1: UK Phrase Searches | X1: UK Broad Searches | Y1: =NOW() -> 40957.67 | Z1: =EOMONTH(Y1,1) -> 40999 | AA1: =EOMONTH(Z1,1) -> 41029 | AB1: =EOMONTH(AA1,1) -> 41060 | AC1: =EOMONTH(AB1,1) -> 41090 | AD1: =EOMONTH(AC1,1) -> 41121 | AE1: =EOMONTH(AD1,1) -> 41152 | AF1: =EOMONTH(AE1,1) -> 41182 | AG1: =EOMONTH(AF1,1) -> 41213 | ... AJ1: =EOMONTH(AI1,1) -> 41305
A2: 1 | B2: [indian curry] | C2: =settings!$B$2 -> 1000000 | D2: =rank -> 5 | E2: =Type_of_SearchQuery -> Default: Both Types | F2: =settings!$B$22 -> Avg | G2: =VLOOKUP(D2,'lookup CTR per position'!$A$3:$W$12, VLOOKUP(F2,settings!$C$22:$D$30,2,FALSE)+1,FALSE) -> 0.044 | H2: =settings!$F$34 -> Ecommerce | I2: =VLOOKUP(H2,settings!$G$34:$H$38,2,FALSE) -> -0.1 | J2: =settings!$F$25 -> Very Popular Brand | K2: =VLOOKUP(J2,settings!$G$25:$H$30,2,FALSE) -> 0.1 | L2: =G2*(100%+I2)*(100%+K2) -> 0.04356 | M2: =settings!$G$14 -> 2.4 | N2: =cpc -> 0.4 | O2: =IFERROR(R2/Q2,"") -> 0.05 | P2: =C2*L2 -> 43560 | Q2: =IFERROR(N2*P2,"") -> 17424 | R2: =P2*settings!$G$13 -> 871.2 | S2: =M2*P2 -> 104544 | T2: =(S2-Q2)/Q2 -> 5 | U2: =IF(COUNTIF(B2,"*[*")>=1,"exact", IF(COUNTIF(B2,"*" &CHAR(34)&"*")>=1,"phrase", "broad")) -> exact | V2: 0.83 | W2: 0 | X2: 0 | Y2: =settings!$B$2 -> 1000000 | Z2: =$Y$2 -> 1000000 | AA2: =$Y$2 -> 1000000 | AB2: =$Y$2 -> 1000000 | AC2: =$Y$2 -> 1000000 | AD2: =$Y$2 -> 1000000 | AE2: =$Y$2 -> 1000000 | AF2: =$Y$2 -> 1000000 | AG2: =$Y$2 -> 1000000 | ... AJ2: =$Y$2 -> 1000000

Sheet notes
